BEGIN:VCALENDAR
PRODID:-//AT Content Types//AT Event//EN
VERSION:2.0
METHOD:PUBLISH
BEGIN:VEVENT
DTSTAMP:20260420T083655Z
CREATED:20221104T140312Z
UID:ATEvent-b24eb1be23d142b3af57c84930ea04aa
LAST-MODIFIED:20221222T163605Z
SUMMARY:Library Strategy Consultation Workshop - For Non-Library Customers
DTSTART:20221116T140000Z
DTEND:20221116T160000Z
DESCRIPTION:Come help shape the new draft Library Strategy for Dorset 
 and earn yourself a £20 high street/supermarket voucher in the proces
 s!\n\nOpen to adults who do not currently use the library service\, th
 is workshop aims to find out what the service can do to better meet th
 e needs of Dorset’s communities. This is an exciting opportunity for
  you to attend a two-hour workshop where you can share your views and 
 help to refine the new library strategy. This will be a hybrid worksho
 p\, so you can join in person at the Weymouth Library and Learning Cen
 tre in Weymouth\, or you can join online from the comfort of your own 
 home.\n\nYou can find more information\, including how to reserve your
  spot\, by visiting the Related section at the bottom of the page\, an
 d clicking on the Library Strategy Consultation Workshop - For Non-Lib
 rary Customers link.
CLASS:PUBLIC
END:VEVENT
END:VCALENDAR
