BEGIN:VCALENDAR
PRODID:-//AT Content Types//AT Event//EN
VERSION:2.0
METHOD:PUBLISH
BEGIN:VEVENT
DTSTAMP:20260420T083636Z
CREATED:20221104T140312Z
UID:ATEvent-62b2eb5700824bcf850ad71c65ec8d38
LAST-MODIFIED:20221222T163606Z
SUMMARY:Library Strategy Consultation Workshop - For Library Customers
DTSTART:20221123T110000Z
DTEND:20221123T130000Z
DESCRIPTION:Come help shape the new draft Library Strategy for Dorset 
 and earn yourself a £20 high street/supermarket voucher in the proces
 s!\n\nAs someone who already uses our library service\, we expect you 
 may have some ideas on what the service can do to better meet the need
 s of Dorset’s communities. This is an exciting opportunity for you t
 o attend a two-hour workshop\, where you can share your views and help
  to refine the new library strategy. This will be a hybrid workshop\, 
 so you can join in person at the Dorset History Centre in Dorchester\,
  or you can join online from the comfort of your own home.\n\nYou can 
 find more information\, including how to reserve your spot\, by visiti
 ng the Related section at the bottom of the page\, and clicking on the
  Library Strategy Consultation Workshop - For Library Customers link.
CLASS:PUBLIC
END:VEVENT
END:VCALENDAR
